BEGIN:VCALENDAR
PRODID:-//eluceo/ical//2.0/EN
VERSION:2.0
CALSCALE:GREGORIAN
BEGIN:VEVENT
UID:b9147d9e527aa0860a3ed8db8bf392c0
DTSTAMP:20260420T125341Z
SUMMARY:Distriktskonferenz 2013
DESCRIPTION:2013!
URL:https://rotary1980.ch/bs/agenda/show/18181
DTSTART;TZID=Europe/Zurich:20130614T000000
DTEND;TZID=Europe/Zurich:20130614T000000
LOCATION:-
CATEGORIES:Rotary
END:VEVENT
BEGIN:VTIMEZONE
TZID:Europe/Zurich
BEGIN:DAYLIGHT
DTSTART:20130614T000000
TZNAME:CEST
TZOFFSETTO:+0200
TZOFFSETFROM:+0200
END:DAYLIGHT
END:VTIMEZONE
END:VCALENDAR
