BEGIN:VCALENDAR
PRODID:-//eluceo/ical//2.0/EN
VERSION:2.0
CALSCALE:GREGORIAN
BEGIN:VEVENT
UID:74c2aedac1fadeef13217aab4f8790f8
DTSTAMP:20260419T225217Z
SUMMARY:"End Polio Now": 18. Oktober 2014
DESCRIPTION:Die Grosse Polio-Veranstaltung findet an der Universität Basel
  statt.
URL:https://rotary1980.ch/fr/agenda/show/38084
DTSTART;TZID=Europe/Zurich:20141018T000000
DTEND;TZID=Europe/Zurich:20141018T000000
LOCATION:-
CATEGORIES:Rotary
END:VEVENT
BEGIN:VTIMEZONE
TZID:Europe/Zurich
BEGIN:DAYLIGHT
DTSTART:20141018T000000
TZNAME:CEST
TZOFFSETTO:+0200
TZOFFSETFROM:+0200
END:DAYLIGHT
END:VTIMEZONE
END:VCALENDAR
