BEGIN:VCALENDAR
PRODID:-//eluceo/ical//2.0/EN
VERSION:2.0
CALSCALE:GREGORIAN
BEGIN:VEVENT
UID:bc4dc990da67b7aeda2d9f60c7cffa63
DTSTAMP:20260419T170134Z
SUMMARY:PELS / Assemblea distrettuale
DESCRIPTION:
URL:https://rotary1980.ch/it/agenda/show/192352
DTSTART;TZID=Europe/Zurich:20250329T083000
DTEND;TZID=Europe/Zurich:20250329T220000
LOCATION:Hotel Schützen\, Rheinfelden
CATEGORIES:Rotary
END:VEVENT
BEGIN:VTIMEZONE
TZID:Europe/Zurich
BEGIN:STANDARD
DTSTART:20250329T083000
TZNAME:CET
TZOFFSETTO:+0100
TZOFFSETFROM:+0100
END:STANDARD
END:VTIMEZONE
END:VCALENDAR
